BEGIN:VCALENDAR
VERSION:2.0
PRODID:-//hacksw/handcal//NONSGML v1.0//EN
CALSCALE:GREGORIAN
BEGIN:VEVENT
DTEND:20251008T170000Z
UID: 69e6214c04521
DTSTAMP:20260420T075124Z
LOCATION:Olin Center for Educational Technology
DESCRIPTION:In 1977\, at age 17\, Steven Pico became one of the founders of the freedom to read movement when he and four other teens sued their school district in Long Island\, NY\, for banning 11 books from their school libraries. The case\, Board of Education v. Pico\, became a landmark case in the fight against book censorship\, when the Supreme Court sided with the students and ruled in a 5-4 decision that “local school boards may not remove books from school library shelves simply because they dislike the ideas contained in those books." Join us for this talk as Steven discusses his success against book banning\, the importance of non-violent activism\, and the state of Freedom of Expression in the U.S.A.This event is part of Augustana College's Symposium Day.
URL;VALUE=URI:https://www.augustana.edu/about-us/events/2025/steven-pico-uncensored-discourse-non-violent-activism-state-freedom-expression
SUMMARY:Steven Pico: 'UNCENSORED: A Discourse on Non-Violent Activism & the State of Freedom of Expression in the U.S.A.'
DTSTART:20251008T170000Z
END:VEVENT
END:VCALENDAR
