BEGIN:VCALENDAR
VERSION:2.0
PRODID:-//hacksw/handcal//NONSGML v1.0//EN
CALSCALE:GREGORIAN
BEGIN:VEVENT
DTEND:20250926T170000Z
UID: 69e9dd2b80a43
DTSTAMP:20260423T034947Z
LOCATION:Viking Plaza
DESCRIPTION:
URL;VALUE=URI:https://www.augustana.edu/about-us/events/2025/campus-field-day
SUMMARY:Campus Field Day
DTSTART:20250926T170000Z
END:VEVENT
END:VCALENDAR
