BEGIN:VCALENDAR
VERSION:2.0
PRODID:-//hacksw/handcal//NONSGML v1.0//EN
CALSCALE:GREGORIAN
BEGIN:VEVENT
DTEND:20251209T190000Z
UID: 69e9dd2b77513
DTSTAMP:20260423T034947Z
LOCATION:The Gerber Center for Student Life
DESCRIPTION:
URL;VALUE=URI:https://www.augustana.edu/about-us/events/2025/free-confidential-sti-testing-project-3
SUMMARY:Free confidential STI testing with The Project
DTSTART:20251209T190000Z
END:VEVENT
END:VCALENDAR
