BEGIN:VCALENDAR
VERSION:2.0
PRODID:-//hacksw/handcal//NONSGML v1.0//EN
CALSCALE:GREGORIAN
BEGIN:VEVENT
DTEND:20250924T180000Z
UID: 69e9ec99d917b
DTSTAMP:20260423T045537Z
LOCATION:The Gerber Center for Student Life
DESCRIPTION:
URL;VALUE=URI:https://www.augustana.edu/about-us/events/2025/free-confidential-sti-testing-project
SUMMARY:Free confidential STI testing with The Project
DTSTART:20250924T180000Z
END:VEVENT
END:VCALENDAR
