BEGIN:VCALENDAR
VERSION:2.0
PRODID:-//hacksw/handcal//NONSGML v1.0//EN
CALSCALE:GREGORIAN
BEGIN:VEVENT
DTEND:20260417T220000Z
UID: 69e9ebd08889c
DTSTAMP:20260423T045216Z
LOCATION:Peter J. Lindberg\, M.D.\, Center for Health and Human Performance
DESCRIPTION:Celebrate the cultural diversity on campus with a festival featuring an array of international food\, cultural tables with interactive activities\, a cultural fashion show\, live performances\, and more.&nbsp\;Sponsored by the Global Engagement Team in collaboration with the Office of International Student and Scholar Services. This is one of the events during Culture &amp\; Connection Week April 17-26.
URL;VALUE=URI:https://www.augustana.edu/about-us/events/2026/international-street-fest
SUMMARY:International Street Fest
DTSTART:20260417T220000Z
END:VEVENT
END:VCALENDAR
