BEGIN:VCALENDAR
VERSION:2.0
PRODID:-//hacksw/handcal//NONSGML v1.0//EN
CALSCALE:GREGORIAN
BEGIN:VEVENT
DTEND:20250923T140000Z
UID: 69e9ebfed64cc
DTSTAMP:20260423T045302Z
LOCATION:Peter J. Lindberg\, M.D.\, Center for Health and Human Performance
DESCRIPTION:Global Prints will be selling posters on the Quad from 9 a.m.-5 p.m.
URL;VALUE=URI:https://www.augustana.edu/about-us/events/2025/poster-sale-tues
SUMMARY:Poster sale
DTSTART:20250923T140000Z
END:VEVENT
END:VCALENDAR
