BEGIN:VCALENDAR
VERSION:2.0
PRODID:-//hacksw/handcal//NONSGML v1.0//EN
CALSCALE:GREGORIAN
BEGIN:VEVENT
DTEND:20250927T000000Z
UID: 69e9f1d944046
DTSTAMP:20260423T051801Z
LOCATION:Centennial Hall
DESCRIPTION:For the last day of Homecoming 2025\, there will be a sing competition followed by the coronation of the homecoming court.
URL;VALUE=URI:https://www.augustana.edu/about-us/events/2025/homecoming-sing-competition-and-coronation
SUMMARY:Homecoming Sing Competition and Coronation
DTSTART:20250927T000000Z
END:VEVENT
END:VCALENDAR
