BEGIN:VCALENDAR
VERSION:2.0
PRODID:-//hacksw/handcal//NONSGML v1.0//EN
CALSCALE:GREGORIAN
BEGIN:VEVENT
DTEND:20250926T000000Z
UID: 69e9f1f9c4be5
DTSTAMP:20260423T051833Z
LOCATION:PepsiCo Recreation Center
DESCRIPTION:Rope pull: The rope pull is a great chance to show off your Augustana school spirit. Battle other groups from different organizations around campus to find out who is the strongest. Hit the weights hard!Phrig: Show off your group’s art skills by participating in the phrig competition! All student groups are eligible to participate in this competition. Augustana students will vote and select the winner based on creativity and originality.
URL;VALUE=URI:https://www.augustana.edu/about-us/events/2025/homecoming-rope-pull-and-phrig-competition
SUMMARY:Homecoming Rope Pull and Phrig Competition
DTSTART:20250926T000000Z
END:VEVENT
END:VCALENDAR
