BEGIN:VCALENDAR
VERSION:2.0
PRODID:-//hacksw/handcal//NONSGML v1.0//EN
CALSCALE:GREGORIAN
BEGIN:VEVENT
DTEND:20250924T223000Z
UID: 69e9f1fa473ea
DTSTAMP:20260423T051834Z
LOCATION:Viking Plaza
DESCRIPTION:For the third day of Homecoming 2025 there will be a cardboard regatta. The cardboard regatta originated in 1974 at Southern Illinois University\, and Augustana's Homecoming Committee enjoys joining in on the fun with their own rendition of the sport.
URL;VALUE=URI:https://www.augustana.edu/about-us/events/2025/homecoming-cardboard-regatta
SUMMARY:Homecoming Cardboard Regatta
DTSTART:20250924T223000Z
END:VEVENT
END:VCALENDAR
