BEGIN:VCALENDAR
VERSION:2.0
PRODID:-//hacksw/handcal//NONSGML v1.0//EN
CALSCALE:GREGORIAN
BEGIN:VEVENT
DTEND:20260419T130000Z
UID: 69e60c07d25ab
DTSTAMP:20260420T062039Z
LOCATION:
DESCRIPTION:Campus Recreation will host a virtual meditation session on Sundays.
URL;VALUE=URI:https://www.augustana.edu/about-us/events/2026/sunday-meditation-0
SUMMARY:Sunday meditation
DTSTART:20260419T130000Z
END:VEVENT
END:VCALENDAR
