BEGIN:VCALENDAR
VERSION:2.0
PRODID:-//hacksw/handcal//NONSGML v1.0//EN
CALSCALE:GREGORIAN
BEGIN:VEVENT
DTEND:20250907T160000Z
UID: 69ea07b13aba4
DTSTAMP:20260423T065113Z
LOCATION:Ascension Chapel
DESCRIPTION:An Augie church service\, led by Pastor Melinda Pupillo.
URL;VALUE=URI:https://www.augustana.edu/about-us/events/2025/augie-church
SUMMARY:Augie Church
DTSTART:20250907T160000Z
END:VEVENT
END:VCALENDAR
