BEGIN:VCALENDAR
VERSION:2.0
PRODID:-//hacksw/handcal//NONSGML v1.0//EN
CALSCALE:GREGORIAN
BEGIN:VEVENT
DTEND:20250904T233000Z
UID: 69ea07db13e39
DTSTAMP:20260423T065155Z
LOCATION:The Gerber Center for Student Life
DESCRIPTION:
URL;VALUE=URI:https://www.augustana.edu/about-us/events/2025/queer-campus-kickoff
SUMMARY:Queer Campus Kickoff
DTSTART:20250904T233000Z
END:VEVENT
END:VCALENDAR
