BEGIN:VCALENDAR
VERSION:2.0
PRODID:-//hacksw/handcal//NONSGML v1.0//EN
CALSCALE:GREGORIAN
BEGIN:VEVENT
DTEND:20251102T170000Z
UID: 69ea07da23e4b
DTSTAMP:20260423T065154Z
LOCATION:Ascension Chapel
DESCRIPTION:Campus Ministries presents a special Sunday worship during All Saints weekend with&nbsp\;Pastor Melinda Pupillo.
URL;VALUE=URI:https://www.augustana.edu/about-us/events/2025/festival-worship-saints
SUMMARY:Festival Worship
DTSTART:20251102T170000Z
END:VEVENT
END:VCALENDAR
