BEGIN:VCALENDAR
VERSION:2.0
PRODID:-//hacksw/handcal//NONSGML v1.0//EN
CALSCALE:GREGORIAN
BEGIN:VEVENT
DTEND:20250928T160000Z
UID: 69ea003d577c2
DTSTAMP:20260423T061925Z
LOCATION:Ascension Chapel
DESCRIPTION:Campus Ministries presents a special Sunday worship during Homecoming &amp\; Family Weekend with&nbsp\;Pastor Melinda Pupillo.
URL;VALUE=URI:https://www.augustana.edu/about-us/events/2025/festival-worship-homecoming
SUMMARY:Festival Worship
DTSTART:20250928T160000Z
END:VEVENT
END:VCALENDAR
