BEGIN:VCALENDAR
VERSION:2.0
PRODID:-//hacksw/handcal//NONSGML v1.0//EN
CALSCALE:GREGORIAN
BEGIN:VEVENT
DTEND:20250906T230000Z
UID: 69e9ff75ed4a4
DTSTAMP:20260423T061605Z
LOCATION:Viking Plaza
DESCRIPTION:The Multicultural Programming Board (MPB) is excited to invite the campus community to take part in Culture Fest ’25\, our annual celebration of the cultures and traditions that enrich our campus community! This year’s theme is all about celebrating your story – and we want to see how you bring it to life.Whether you’re a solo act or part of a group\, we welcome any kind of performance. Your piece might reflect a cultural tradition\, a personal story\, or simply your creativity — surprise us! All students are invited to join in this celebration of talent\, culture\, and community. Performances will be recognized for creativity and impact\, and the top performance will receive a prize. (Trust us\, it’ll be worth getting on stage for!) Click here to sign up to perform.
URL;VALUE=URI:https://www.augustana.edu/about-us/events/2025/culture-fest-25
SUMMARY:Culture Fest '25
DTSTART:20250906T230000Z
END:VEVENT
END:VCALENDAR
