BEGIN:VCALENDAR
VERSION:2.0
PRODID:-//hacksw/handcal//NONSGML v1.0//EN
CALSCALE:GREGORIAN
BEGIN:VEVENT
DTEND:20250906T180000Z
UID: 69ea009fa013d
DTSTAMP:20260423T062103Z
LOCATION:Viking Plaza
DESCRIPTION:As the semester starts\, the Office of Student Life will host an Activities Fair Saturday\, Sept. 6\, from 12-3 p.m. in the lower quad! The event will be a great chance to connect with clubs\, Greek life\, and campus departments\, whether you're looking to join something new or just want to explore what’s out there.Also\, we'll be giving away free ice cream from Just Us &amp\; Treats to the first 300 students to arrive\, so come early and bring your friends!
URL;VALUE=URI:https://www.augustana.edu/about-us/events/2025/activities-fair
SUMMARY:Activities fair
DTSTART:20250906T180000Z
END:VEVENT
END:VCALENDAR
