BEGIN:VCALENDAR
VERSION:2.0
PRODID:-//hacksw/handcal//NONSGML v1.0//EN
CALSCALE:GREGORIAN
BEGIN:VEVENT
DTEND:20250906T010000Z
UID: 69ea0050058de
DTSTAMP:20260423T061944Z
LOCATION:The Gerber Center for Student Life
DESCRIPTION:The Office of Student Life will host a beach bingo game in the Gävle rooms.
URL;VALUE=URI:https://www.augustana.edu/about-us/events/2025/beach-bingo
SUMMARY:Beach Bingo
DTSTART:20250906T010000Z
END:VEVENT
END:VCALENDAR
