BEGIN:VCALENDAR
VERSION:2.0
PRODID:-//hacksw/handcal//NONSGML v1.0//EN
CALSCALE:GREGORIAN
BEGIN:VEVENT
DTEND:20250905T010000Z
UID: 69ea0152e3212
DTSTAMP:20260423T062402Z
LOCATION:The Gerber Center for Student Life
DESCRIPTION:The Office of Student Life will host a comedy show from actor\, comedian and writer Chinedu Unaka.
URL;VALUE=URI:https://www.augustana.edu/about-us/events/2025/comedy-show-chinedu-unaka
SUMMARY:Comedy show: Chinedu Unaka
DTSTART:20250905T010000Z
END:VEVENT
END:VCALENDAR
