BEGIN:VCALENDAR
VERSION:2.0
PRODID:-//hacksw/handcal//NONSGML v1.0//EN
CALSCALE:GREGORIAN
BEGIN:VEVENT
DTEND:20250903T000000Z
UID: 69ea018932e4e
DTSTAMP:20260423T062457Z
LOCATION:Viking Plaza
DESCRIPTION:The Office of Student Life presents a Capture the Flag game on the Quad.
URL;VALUE=URI:https://www.augustana.edu/about-us/events/2025/capture-flag
SUMMARY:Capture the Flag
DTSTART:20250903T000000Z
END:VEVENT
END:VCALENDAR
