BEGIN:VCALENDAR
VERSION:2.0
PRODID:-//hacksw/handcal//NONSGML v1.0//EN
CALSCALE:GREGORIAN
BEGIN:VEVENT
DTEND:20251011T000000Z
UID: 69e630dc99abd
DTSTAMP:20260420T085748Z
LOCATION:Carver P.E. Center
DESCRIPTION:The Augustana women's volleyball team plays Elmhurst.See the 2025 women's volleyball schedule
URL;VALUE=URI:https://www.augustana.edu/about-us/events/2025/womens-volleyball-vs-elmhurst
SUMMARY:Women's volleyball vs. Elmhurst
DTSTART:20251011T000000Z
END:VEVENT
END:VCALENDAR
