BEGIN:VCALENDAR
VERSION:2.0
PRODID:-//hacksw/handcal//NONSGML v1.0//EN
CALSCALE:GREGORIAN
BEGIN:VEVENT
DTEND:20250912T220000Z
UID: 69e6316e29616
DTSTAMP:20260420T090014Z
LOCATION:Carver P.E. Center
DESCRIPTION:The Augustana women's volleyball team plays Illinois Tech.See the 2025 women's volleyball schedule
URL;VALUE=URI:https://www.augustana.edu/about-us/events/2025/womens-volleyball-vs-illinois-tech
SUMMARY:Women's volleyball vs. Illinois Tech
DTSTART:20250912T220000Z
END:VEVENT
END:VCALENDAR
