BEGIN:VCALENDAR
VERSION:2.0
PRODID:-//hacksw/handcal//NONSGML v1.0//EN
CALSCALE:GREGORIAN
BEGIN:VEVENT
DTEND:20250904T000000Z
UID: 69e630dc91852
DTSTAMP:20260420T085748Z
LOCATION:Carver P.E. Center
DESCRIPTION:The Augustana women's volleyball team plays University of Wisconsin-Platteville.See the 2025 women's volleyball schedule
URL;VALUE=URI:https://www.augustana.edu/about-us/events/2025/womens-volleyball-vs-university-wisconsin-platteville
SUMMARY:Women's volleyball vs. University of Wisconsin-Platteville
DTSTART:20250904T000000Z
END:VEVENT
END:VCALENDAR
