BEGIN:VCALENDAR
VERSION:2.0
PRODID:-//hacksw/handcal//NONSGML v1.0//EN
CALSCALE:GREGORIAN
BEGIN:VEVENT
DTEND:20250913T160000Z
UID: 69e6319dbc563
DTSTAMP:20260420T090101Z
LOCATION:Lincoln Park
DESCRIPTION:The Augustana women's tennis team plays Illinois Wesleyan.See the 2025-26 women's tennis schedule
URL;VALUE=URI:https://www.augustana.edu/about-us/events/2025/womens-tennis-vs-illinois-wesleyan
SUMMARY:Women's tennis vs. Illinois Wesleyan
DTSTART:20250913T160000Z
END:VEVENT
END:VCALENDAR
