BEGIN:VCALENDAR
VERSION:2.0
PRODID:-//hacksw/handcal//NONSGML v1.0//EN
CALSCALE:GREGORIAN
BEGIN:VEVENT
DTEND:20251023T000000Z
UID: 69e630be2b1df
DTSTAMP:20260420T085718Z
LOCATION:Thorson-Lucken Field
DESCRIPTION:The Augustana women's soccer team plays Carthage.See the 2025 women's soccer schedule
URL;VALUE=URI:https://www.augustana.edu/about-us/events/2025/womens-soccer-vs-carthage
SUMMARY:Women's soccer vs. Carthage
DTSTART:20251023T000000Z
END:VEVENT
END:VCALENDAR
