BEGIN:VCALENDAR
VERSION:2.0
PRODID:-//hacksw/handcal//NONSGML v1.0//EN
CALSCALE:GREGORIAN
BEGIN:VEVENT
DTEND:20251011T180000Z
UID: 69e630c33738f
DTSTAMP:20260420T085723Z
LOCATION:Thorson-Lucken Field
DESCRIPTION:The Augustana women's soccer team plays Wheaton.See the 2025 women's soccer schedule
URL;VALUE=URI:https://www.augustana.edu/about-us/events/2025/womens-soccer-vs-wheaton
SUMMARY:Women's soccer vs. Wheaton
DTSTART:20251011T180000Z
END:VEVENT
END:VCALENDAR
