BEGIN:VCALENDAR
VERSION:2.0
PRODID:-//hacksw/handcal//NONSGML v1.0//EN
CALSCALE:GREGORIAN
BEGIN:VEVENT
DTEND:20251009T000000Z
UID: 69e631d0c2a11
DTSTAMP:20260420T090152Z
LOCATION:Thorson-Lucken Field
DESCRIPTION:The Augustana women's soccer team plays North Central.See the 2025 women's soccer schedule
URL;VALUE=URI:https://www.augustana.edu/about-us/events/2025/womens-soccer-vs-north-central
SUMMARY:Women's soccer vs. North Central
DTSTART:20251009T000000Z
END:VEVENT
END:VCALENDAR
