BEGIN:VCALENDAR
VERSION:2.0
PRODID:-//hacksw/handcal//NONSGML v1.0//EN
CALSCALE:GREGORIAN
BEGIN:VEVENT
DTEND:20251002T000000Z
UID: 69e66b350876a
DTSTAMP:20260420T130645Z
LOCATION:Thorson-Lucken Field
DESCRIPTION:The Augustana women's soccer team plays Coe.See the 2025 women's soccer schedule
URL;VALUE=URI:https://www.augustana.edu/about-us/events/2025/womens-soccer-vs-coe
SUMMARY:Women's soccer vs. Coe
DTSTART:20251002T000000Z
END:VEVENT
END:VCALENDAR
