BEGIN:VCALENDAR
VERSION:2.0
PRODID:-//hacksw/handcal//NONSGML v1.0//EN
CALSCALE:GREGORIAN
BEGIN:VEVENT
DTEND:20250927T180000Z
UID: 69e632df14ab3
DTSTAMP:20260420T090623Z
LOCATION:Thorson-Lucken Field
DESCRIPTION:The Augustana women's soccer team plays North Park.See the 2025 women's soccer schedule
URL;VALUE=URI:https://www.augustana.edu/about-us/events/2025/womens-soccer-vs-north-park
SUMMARY:Women's soccer vs. North Park
DTSTART:20250927T180000Z
END:VEVENT
END:VCALENDAR
