BEGIN:VCALENDAR
VERSION:2.0
PRODID:-//hacksw/handcal//NONSGML v1.0//EN
CALSCALE:GREGORIAN
BEGIN:VEVENT
DTEND:20250909T193000Z
UID: 69e63143992de
DTSTAMP:20260420T085931Z
LOCATION:Thorson-Lucken Field
DESCRIPTION:The Augustana women's soccer team plays Kalamazoo.See the 2025 women's soccer schedule
URL;VALUE=URI:https://www.augustana.edu/about-us/events/2025/womens-soccer-vs-kalamazoo
SUMMARY:Women's soccer vs. Kalamazoo
DTSTART:20250909T193000Z
END:VEVENT
END:VCALENDAR
