BEGIN:VCALENDAR
VERSION:2.0
PRODID:-//hacksw/handcal//NONSGML v1.0//EN
CALSCALE:GREGORIAN
BEGIN:VEVENT
DTEND:20260122T010000Z
UID: 69e632df0a16e
DTSTAMP:20260420T090623Z
LOCATION:Carver P.E. Center
DESCRIPTION:The Augustana women's basketball team plays Wheaton.See the 2025-26 women's basketball schedule
URL;VALUE=URI:https://www.augustana.edu/about-us/events/2026/womens-basketball-vs-wheaton
SUMMARY:Women's basketball vs. Wheaton
DTSTART:20260122T010000Z
END:VEVENT
END:VCALENDAR
