BEGIN:VCALENDAR
VERSION:2.0
PRODID:-//hacksw/handcal//NONSGML v1.0//EN
CALSCALE:GREGORIAN
BEGIN:VEVENT
DTEND:20251206T200000Z
UID: 69e633fb82d07
DTSTAMP:20260420T091107Z
LOCATION:Carver P.E. Center
DESCRIPTION:The Augustana women's basketball team plays University of Wisconsin-Platteville.See the 2025-26 women's basketball schedule
URL;VALUE=URI:https://www.augustana.edu/about-us/events/2025/womens-basketball-vs-university-wisconsin-platteville
SUMMARY:Women's basketball vs. University of Wisconsin-Platteville
DTSTART:20251206T200000Z
END:VEVENT
END:VCALENDAR
