BEGIN:VCALENDAR
VERSION:2.0
PRODID:-//hacksw/handcal//NONSGML v1.0//EN
CALSCALE:GREGORIAN
BEGIN:VEVENT
DTEND:20251030T000000Z
UID: 69e642d78a069
DTSTAMP:20260420T101431Z
LOCATION:Thorson-Lucken Field
DESCRIPTION:The Augustana men's soccer team plays Elmhurst.See the 2025 men's soccer schedule
URL;VALUE=URI:https://www.augustana.edu/about-us/events/2025/mens-soccer-vs-elmhurst
SUMMARY:Men's soccer vs. Elmhurst
DTSTART:20251030T000000Z
END:VEVENT
END:VCALENDAR
