BEGIN:VCALENDAR
VERSION:2.0
PRODID:-//hacksw/handcal//NONSGML v1.0//EN
CALSCALE:GREGORIAN
BEGIN:VEVENT
DTEND:20251011T220000Z
UID: 69e64657692e1
DTSTAMP:20260420T102927Z
LOCATION:Thorson-Lucken Field
DESCRIPTION:The Augustana men's soccer team plays Wheaton.See the 2025 men's soccer schedule
URL;VALUE=URI:https://www.augustana.edu/about-us/events/2025/mens-soccer-vs-wheaton
SUMMARY:Men's soccer vs. Wheaton
DTSTART:20251011T220000Z
END:VEVENT
END:VCALENDAR
