BEGIN:VCALENDAR
VERSION:2.0
PRODID:-//hacksw/handcal//NONSGML v1.0//EN
CALSCALE:GREGORIAN
BEGIN:VEVENT
DTEND:20250927T220000Z
UID: 69e6461d16d7d
DTSTAMP:20260420T102829Z
LOCATION:Thorson-Lucken Field
DESCRIPTION:The Augustana men's soccer team plays North Park.See the 2025 men's soccer schedule
URL;VALUE=URI:https://www.augustana.edu/about-us/events/2025/mens-soccer-vs-north-park
SUMMARY:Men's soccer vs. North Park
DTSTART:20250927T220000Z
END:VEVENT
END:VCALENDAR
