BEGIN:VCALENDAR
VERSION:2.0
PRODID:-//hacksw/handcal//NONSGML v1.0//EN
CALSCALE:GREGORIAN
BEGIN:VEVENT
DTEND:20250924T000000Z
UID: 69e642b4f21fd
DTSTAMP:20260420T101356Z
LOCATION:Thorson-Lucken Field
DESCRIPTION:The Augustana men's soccer team plays Coe.See the 2025 men's soccer schedule
URL;VALUE=URI:https://www.augustana.edu/about-us/events/2025/mens-soccer-vs-coe
SUMMARY:Men's soccer vs. Coe
DTSTART:20250924T000000Z
END:VEVENT
END:VCALENDAR
