BEGIN:VCALENDAR
VERSION:2.0
PRODID:-//hacksw/handcal//NONSGML v1.0//EN
CALSCALE:GREGORIAN
BEGIN:VEVENT
DTEND:20250917T000000Z
UID: 69e644457266f
DTSTAMP:20260420T102037Z
LOCATION:Thorson-Lucken Field
DESCRIPTION:The Augustana men's soccer team plays Central.See the 2025 men's soccer schedule
URL;VALUE=URI:https://www.augustana.edu/about-us/events/2025/mens-soccer-vs-central
SUMMARY:Men's soccer vs. Central
DTSTART:20250917T000000Z
END:VEVENT
END:VCALENDAR
