BEGIN:VCALENDAR
VERSION:2.0
PRODID:-//hacksw/handcal//NONSGML v1.0//EN
CALSCALE:GREGORIAN
BEGIN:VEVENT
DTEND:20250906T203000Z
UID: 69e646c3d97f2
DTSTAMP:20260420T103115Z
LOCATION:Thorson-Lucken Field
DESCRIPTION:The Augustana men's soccer team plays University of Wisconsin-Stevens Point.See the 2025 men's soccer schedule
URL;VALUE=URI:https://www.augustana.edu/about-us/events/2025/mens-soccer-vs-university-wisconsin-stevens-point
SUMMARY:Men's soccer vs. University of Wisconsin-Stevens Point
DTSTART:20250906T203000Z
END:VEVENT
END:VCALENDAR
