BEGIN:VCALENDAR
VERSION:2.0
PRODID:-//hacksw/handcal//NONSGML v1.0//EN
CALSCALE:GREGORIAN
BEGIN:VEVENT
DTEND:20250924T180000Z
UID: 69e653964239d
DTSTAMP:20260420T112558Z
LOCATION:Highland Springs Golf Course
DESCRIPTION:The Augustana men's golf team plays St. Ambrose.See the 2025-26 men's golf schedule
URL;VALUE=URI:https://www.augustana.edu/about-us/events/2025/mens-golf-vs-st-ambrose
SUMMARY:Men's golf vs. St. Ambrose
DTSTART:20250924T180000Z
END:VEVENT
END:VCALENDAR
