BEGIN:VCALENDAR
VERSION:2.0
PRODID:-//hacksw/handcal//NONSGML v1.0//EN
CALSCALE:GREGORIAN
BEGIN:VEVENT
DTEND:20250921T190000Z
UID: 69e6469b03450
DTSTAMP:20260420T103035Z
LOCATION:Highland Springs Golf Course
DESCRIPTION:The Augustana men's golf team plays Black Hawk College.See the 2025-26 men's golf schedule
URL;VALUE=URI:https://www.augustana.edu/about-us/events/2025/mens-golf-vs-black-hawk-college
SUMMARY:Men's golf vs. Black Hawk College
DTSTART:20250921T190000Z
END:VEVENT
END:VCALENDAR
