BEGIN:VCALENDAR
VERSION:2.0
PRODID:-//hacksw/handcal//NONSGML v1.0//EN
CALSCALE:GREGORIAN
BEGIN:VEVENT
DTEND:20260221T221500Z
UID: 69e6464beffdf
DTSTAMP:20260420T102915Z
LOCATION:Carver P.E. Center
DESCRIPTION:The Augustana men's basketball team plays Illinois Wesleyan.See the 2025-26 men's basketball schedule
URL;VALUE=URI:https://www.augustana.edu/about-us/events/2026/mens-basketball-vs-illinois-wesleyan
SUMMARY:Men's basketball vs. Illinois Wesleyan
DTSTART:20260221T221500Z
END:VEVENT
END:VCALENDAR
