BEGIN:VCALENDAR
VERSION:2.0
PRODID:-//hacksw/handcal//NONSGML v1.0//EN
CALSCALE:GREGORIAN
BEGIN:VEVENT
DTEND:20251204T010000Z
UID: 69e6580e47936
DTSTAMP:20260420T114502Z
LOCATION:Carver P.E. Center
DESCRIPTION:The Augustana men's basketball team plays Wheaton.See the 2025-26 men's basketball schedule
URL;VALUE=URI:https://www.augustana.edu/about-us/events/2025/mens-basketball-vs-wheaton-0
SUMMARY:Men's basketball vs. Wheaton
DTSTART:20251204T010000Z
END:VEVENT
END:VCALENDAR
