BEGIN:VCALENDAR
VERSION:2.0
PRODID:-//hacksw/handcal//NONSGML v1.0//EN
CALSCALE:GREGORIAN
BEGIN:VEVENT
DTEND:20251101T180000Z
UID: 69e645e31af41
DTSTAMP:20260420T102731Z
LOCATION:Lindberg Stadium 
DESCRIPTION:The Augustana Vikings will play football vs. Illinois Wesleyan.See the 2025 football schedule
URL;VALUE=URI:https://www.augustana.edu/about-us/events/2025/football-vs-illinois-wesleyan
SUMMARY:Football vs. Illinois Wesleyan
DTSTART:20251101T180000Z
END:VEVENT
END:VCALENDAR
