BEGIN:VCALENDAR
VERSION:2.0
PRODID:-//hacksw/handcal//NONSGML v1.0//EN
CALSCALE:GREGORIAN
BEGIN:VEVENT
DTEND:20251018T180000Z
UID: 69e645e3481bb
DTSTAMP:20260420T102731Z
LOCATION:Lindberg Stadium 
DESCRIPTION:The Augustana Vikings will play football vs. Carroll.See the 2025 football schedule
URL;VALUE=URI:https://www.augustana.edu/about-us/events/2025/football-vs-carroll
SUMMARY:Football vs. Carroll
DTSTART:20251018T180000Z
END:VEVENT
END:VCALENDAR
