BEGIN:VCALENDAR
VERSION:2.0
PRODID:-//hacksw/handcal//NONSGML v1.0//EN
CALSCALE:GREGORIAN
BEGIN:VEVENT
DTEND:20251101T210000Z
UID: 69ea07ac0e14e
DTSTAMP:20260423T065108Z
LOCATION:Centennial Hall
DESCRIPTION:The Augustana Symphony Orchestra Concerto Competition will take place.
URL;VALUE=URI:https://www.augustana.edu/about-us/events/2025/augustana-concerto-competition
SUMMARY: Augustana Concerto Competition
DTSTART:20251101T210000Z
END:VEVENT
END:VCALENDAR
