BEGIN:VCALENDAR
VERSION:2.0
PRODID:-//hacksw/handcal//NONSGML v1.0//EN
CALSCALE:GREGORIAN
BEGIN:VEVENT
DTEND:20251013T211500Z
UID: 69e6930bc6b72
DTSTAMP:20260420T155643Z
LOCATION:Wallenberg Hall\, Denkmann Memorial Building
DESCRIPTION:The High School Choral Festival is for high school mixed ensembles of up to 30 singers\, with a goal to gather a group of ensembles particularly interested in preparing and performing high quality choral music in an atmosphere that is fun and musically rewarding.The festival will culminate on Monday evening with an informal concert featuring performances by each school\, the mass choir and Augustana Choral Ensembles.&nbsp\;
URL;VALUE=URI:https://www.augustana.edu/about-us/events/2025/high-school-choral-festival-concert
SUMMARY:High School Choral Festival Concert
DTSTART:20251013T211500Z
END:VEVENT
END:VCALENDAR
