BEGIN:VCALENDAR
VERSION:2.0
PRODID:-//hacksw/handcal//NONSGML v1.0//EN
CALSCALE:GREGORIAN
BEGIN:VEVENT
DTEND:20250903T180000Z
UID: 69ea07ac47ab8
DTSTAMP:20260423T065108Z
LOCATION:The Gerber Center for Student Life
DESCRIPTION:SGA will be hosting a job fair for various on campus work opportunities on Wednesday\, Sept. 3\, from 1-2 p.m. in the Viking Plaza!The event will feature the following on campus jobs:AdmissionsResidential LifeCampus RecreationDining ServicesSports MedicineOur drop-in career fair is geared towards those who participate in federal work-study\, are international students\, or anyone looking for accessible on-campus work experience. Each job opportunity is unique and a great way to gain professional experience and campus connections!Stop by to learn more!
URL;VALUE=URI:https://www.augustana.edu/about-us/events/2025/campus-job-fair
SUMMARY:On-campus job fair
DTSTART:20250903T180000Z
END:VEVENT
END:VCALENDAR
