BEGIN:VCALENDAR
VERSION:2.0
PRODID:-//hacksw/handcal//NONSGML v1.0//EN
CALSCALE:GREGORIAN
BEGIN:VEVENT
DTEND:20251210T190000Z
UID: 69ea07b1f188e
DTSTAMP:20260423T065113Z
LOCATION:Olin Center for Educational Technology
DESCRIPTION:Drop into Olin Center 303 to let Erin know how the semester went for you\, how finals week is going\, suggest CELTS program ideas\, or just say hello. No RSVP required!Organized by the Center for Engaged Learning\, Teaching\, and Scholarship (CELTS).This session is intended for Augustana instructors (faculty and staff)\, not students. If you are a student interested in educational development\, check out Treadway Library\, TRIO\, the Reading/Writing Center\, CORE\, &nbsp\;the STEM/Q Center in Hanson\, or the Learning Commons! There are excellent resources\, faculty\, and staff to support you!
URL;VALUE=URI:https://www.augustana.edu/about-us/events/2025/faculty-celts-open-office-hours
SUMMARY:For faculty: CELTS open office hours
DTSTART:20251210T190000Z
END:VEVENT
END:VCALENDAR
