BEGIN:VCALENDAR
VERSION:2.0
PRODID:-//hacksw/handcal//NONSGML v1.0//EN
CALSCALE:GREGORIAN
BEGIN:VEVENT
DTEND:20251203T190000Z
UID: 69ea07b271608
DTSTAMP:20260423T065114Z
LOCATION:Peter J. Lindberg\, M.D.\, Center for Health and Human Performance
DESCRIPTION:This roundtable discussion will cover advising and mentoring international students. Co-hosted with the Advising Committee and the Office of Diversity\, Equity\, and Inclusion.Organized by the Center for Engaged Learning\, Teaching\, and Scholarship (CELTS).This session is intended for Augustana instructors (faculty and staff)\, not students. If you are a student interested in educational development\, check out Treadway Library\, TRIO\, the Reading/Writing Center\, CORE\, &nbsp\;the STEM/Q Center in Hanson\, or the Learning Commons! There are excellent resources\, faculty\, and staff to support you!
URL;VALUE=URI:https://www.augustana.edu/about-us/events/2025/faculty-advising-and-mentoring-0
SUMMARY:For faculty: Advising and Mentoring
DTSTART:20251203T190000Z
END:VEVENT
END:VCALENDAR
