BEGIN:VCALENDAR
VERSION:2.0
PRODID:-//hacksw/handcal//NONSGML v1.0//EN
CALSCALE:GREGORIAN
BEGIN:VEVENT
DTEND:20170518T210000Z
UID: 69e9226b97fad
DTSTAMP:20260422T143259Z
LOCATION:Quad
DESCRIPTION:The Augustana Vikings will compete in the Augustana Twilight Qualifier.\n\nEvents begin at 4 p.m. See schedule.\n
URL;VALUE=URI:https://www.augustana.edu/about-us/events/2017/track-and-field-augustana-twilight-qualifier
SUMMARY:Track and Field: Augustana Twilight Qualifier
DTSTART:20170518T210000Z
END:VEVENT
END:VCALENDAR
