BEGIN:VCALENDAR
VERSION:2.0
PRODID:-//hacksw/handcal//NONSGML v1.0//EN
CALSCALE:GREGORIAN
BEGIN:VEVENT
DTEND:20250816T180000Z
UID: 69e693b62017c
DTSTAMP:20260420T155934Z
LOCATION:The Last Picture House
DESCRIPTION:Quad City Arts’ "Art is Work" is a documentary film project reflecting on the 25-year legacy of its Metro Arts Youth Apprenticeship Program\, a paid arts apprenticeship that empowers young artists to create public art alongside professional artists.Created by Quad City Arts and led by lead artist Stacy Barton of Augustana College and the Metro Arts Documentary Filmmaking apprentices\, the film highlights the voices of past and present participants\, capturing how Metro Arts has shaped creative careers\, fostered mentorship\, and made a lasting impact on the community through the core belief that artists—of all ages—deserve to be paid for their work.
URL;VALUE=URI:https://www.augustana.edu/about-us/events/2025/film-art-work
SUMMARY:Film: 'Art Is Work'
DTSTART:20250816T180000Z
END:VEVENT
END:VCALENDAR
